BEGIN:VCALENDAR
VERSION:2.0
PRODID:-//Tukios.com/
BEGIN:VEVENT
UID:5dad9906-0b02-4a9c-b47d-817dee282339@www.ruddfuneralhome.com
DTSTAMP:20260422T001557Z
DTSTART:20260501T160000Z
DTEND:20260501T173000Z
SUMMARY:Viewing
DESCRIPTION:
URL:https://www.ruddfuneralhome.com/obituaries/dorene-bernegg
LOCATION: 11475 W 10400 N  Thatcher UT 84337
GEO:41.6938773;-112.2939479
END:VEVENT
END:VCALENDAR