BEGIN:VCALENDAR
VERSION:2.0
PRODID:-//Tukios.com/
BEGIN:VEVENT
UID:ce1d2760-fe8b-48e2-97e6-0af240c22653@www.ruddfuneralhome.com
DTSTAMP:20260422T001441Z
DTSTART:20260501T180000Z
DTEND:20260501T190000Z
SUMMARY:Funeral Service
DESCRIPTION:
URL:https://www.ruddfuneralhome.com/obituaries/dorene-bernegg
LOCATION: 11475 W 10400 N  Thatcher UT 84337
GEO:41.6938773;-112.2939479
END:VEVENT
END:VCALENDAR