BEGIN:VCALENDAR
VERSION:2.0
PRODID:-//Tukios.com/
BEGIN:VEVENT
UID:10699b1e-4494-43ea-bfcd-5f0fe3d0cd41@www.ruddfuneralhome.com
DTSTAMP:20260422T001708Z
DTSTART:20260501
SUMMARY:Burial
DESCRIPTION:
URL:https://www.ruddfuneralhome.com/obituaries/dorene-bernegg
LOCATION: 11580 W 11200 N  Tremonton UT 84337
GEO:41.7095615;-112.2971176
END:VEVENT
END:VCALENDAR